BEGIN:VCALENDAR
PRODID:-//AT Content Types//AT Event//EN
VERSION:1.0
BEGIN:VEVENT
DTSTART:20121121T230000Z
DTEND:20121122T230000Z
DCREATED:20090328T150427Z
UID:ATEvent-4bbc37e5f5405b35fed9b00b6d1d17ef
SEQUENCE:0
LAST-MODIFIED:20120909T210351Z
SUMMARY:Aniversario de onubenses.org
DESCRIPTION:22 de noviembre de cada año
LOCATION:Huelva
PRIORITY:3
TRANSP:0
END:VEVENT
END:VCALENDAR
